BEGIN:VCALENDAR
VERSION:2.0
PRODID:https://www.kufer.de/kuferweb / DE
METHOD:PUBLISH
CALSCALE:GREGORIAN
X-WR-TIMEZONE:Europe/Berlin
BEGIN:VTIMEZONE
TZID:Europe/Berlin
X-LIC-LOCATION:Europe/Berlin
BEGIN:DAYLIGHT
TZOFFSETFROM:+0100
TZOFFSETTO:+0200
TZNAME:CEST
DTSTART:19700329T020000
RRULE:FREQ=YEARLY;INTERVAL=1;BYDAY=-1SU;BYMONTH=3
END:DAYLIGHT
BEGIN:STANDARD
TZOFFSETFROM:+0200
TZOFFSETTO:+0100
TZNAME:CET
DTSTART:19701025T030000
RRULE:FREQ=YEARLY;INTERVAL=1;BYDAY=-1SU;BYMONTH=10
END:STANDARD
END:VTIMEZONE
BEGIN:VEVENT
DTSTAMP:20260420T125036
DTSTART;TZID=Europe/Berlin:20270120T170000
DTEND;TZID=Europe/Berlin:20270120T183000
UID:27F1-42801-20270120T170000@VHSSAALE-ORLA-KREIS
SUMMARY:Grundkurs Gebärdensprache der Gehörlosen (Allgemein) (27F1-42801) 
LOCATION:Pößneck, VHS / 3. Etage, Raum 02, Wohlfarthstraße 3, 07381 Pößneck
END:VEVENT
BEGIN:VEVENT
DTSTAMP:20260420T125036
DTSTART;TZID=Europe/Berlin:20270120T170000
DTEND;TZID=Europe/Berlin:20270120T183000
UID:27F1-42801-20270120T170000@VHSSAALE-ORLA-KREIS
DESCRIPTION:Dolmetschen
SUMMARY:Grundkurs Gebärdensprache der Gehörlosen (Allgemein) (27F1-42801) 
LOCATION:Pößneck, VHS / 3. Etage, Raum 02, Wohlfarthstraße 3, 07381 Pößneck
END:VEVENT
BEGIN:VEVENT
DTSTAMP:20260420T125036
DTSTART;TZID=Europe/Berlin:20270127T170000
DTEND;TZID=Europe/Berlin:20270127T183000
UID:27F1-42801-20270127T170000@VHSSAALE-ORLA-KREIS
SUMMARY:Grundkurs Gebärdensprache der Gehörlosen (Allgemein) (27F1-42801) 
LOCATION:Pößneck, VHS / 3. Etage, Raum 02, Wohlfarthstraße 3, 07381 Pößneck
END:VEVENT
BEGIN:VEVENT
DTSTAMP:20260420T125036
DTSTART;TZID=Europe/Berlin:20270210T170000
DTEND;TZID=Europe/Berlin:20270210T183000
UID:27F1-42801-20270210T170000@VHSSAALE-ORLA-KREIS
SUMMARY:Grundkurs Gebärdensprache der Gehörlosen (Allgemein) (27F1-42801) 
LOCATION:Pößneck, VHS / 3. Etage, Raum 02, Wohlfarthstraße 3, 07381 Pößneck
END:VEVENT
BEGIN:VEVENT
DTSTAMP:20260420T125036
DTSTART;TZID=Europe/Berlin:20270217T170000
DTEND;TZID=Europe/Berlin:20270217T183000
UID:27F1-42801-20270217T170000@VHSSAALE-ORLA-KREIS
SUMMARY:Grundkurs Gebärdensprache der Gehörlosen (Allgemein) (27F1-42801) 
LOCATION:Pößneck, VHS / 3. Etage, Raum 02, Wohlfarthstraße 3, 07381 Pößneck
END:VEVENT
BEGIN:VEVENT
DTSTAMP:20260420T125036
DTSTART;TZID=Europe/Berlin:20270224T170000
DTEND;TZID=Europe/Berlin:20270224T183000
UID:27F1-42801-20270224T170000@VHSSAALE-ORLA-KREIS
SUMMARY:Grundkurs Gebärdensprache der Gehörlosen (Allgemein) (27F1-42801) 
LOCATION:Pößneck, VHS / 3. Etage, Raum 02, Wohlfarthstraße 3, 07381 Pößneck
END:VEVENT
BEGIN:VEVENT
DTSTAMP:20260420T125036
DTSTART;TZID=Europe/Berlin:20270303T170000
DTEND;TZID=Europe/Berlin:20270303T183000
UID:27F1-42801-20270303T170000@VHSSAALE-ORLA-KREIS
SUMMARY:Grundkurs Gebärdensprache der Gehörlosen (Allgemein) (27F1-42801) 
LOCATION:Pößneck, VHS / 3. Etage, Raum 02, Wohlfarthstraße 3, 07381 Pößneck
END:VEVENT
BEGIN:VEVENT
DTSTAMP:20260420T125036
DTSTART;TZID=Europe/Berlin:20270310T170000
DTEND;TZID=Europe/Berlin:20270310T183000
UID:27F1-42801-20270310T170000@VHSSAALE-ORLA-KREIS
SUMMARY:Grundkurs Gebärdensprache der Gehörlosen (Allgemein) (27F1-42801) 
LOCATION:Pößneck, VHS / 3. Etage, Raum 02, Wohlfarthstraße 3, 07381 Pößneck
END:VEVENT
BEGIN:VEVENT
DTSTAMP:20260420T125036
DTSTART;TZID=Europe/Berlin:20270317T170000
DTEND;TZID=Europe/Berlin:20270317T183000
UID:27F1-42801-20270317T170000@VHSSAALE-ORLA-KREIS
SUMMARY:Grundkurs Gebärdensprache der Gehörlosen (Allgemein) (27F1-42801) 
LOCATION:Pößneck, VHS / 3. Etage, Raum 02, Wohlfarthstraße 3, 07381 Pößneck
END:VEVENT
BEGIN:VEVENT
DTSTAMP:20260420T125036
DTSTART;TZID=Europe/Berlin:20270407T170000
DTEND;TZID=Europe/Berlin:20270407T183000
UID:27F1-42801-20270407T170000@VHSSAALE-ORLA-KREIS
SUMMARY:Grundkurs Gebärdensprache der Gehörlosen (Allgemein) (27F1-42801) 
LOCATION:Pößneck, VHS / 3. Etage, Raum 02, Wohlfarthstraße 3, 07381 Pößneck
END:VEVENT
BEGIN:VEVENT
DTSTAMP:20260420T125036
DTSTART;TZID=Europe/Berlin:20270414T170000
DTEND;TZID=Europe/Berlin:20270414T183000
UID:27F1-42801-20270414T170000@VHSSAALE-ORLA-KREIS
SUMMARY:Grundkurs Gebärdensprache der Gehörlosen (Allgemein) (27F1-42801) 
LOCATION:Pößneck, VHS / 3. Etage, Raum 02, Wohlfarthstraße 3, 07381 Pößneck
END:VEVENT
END:VCALENDAR